BEGIN:VCALENDAR
VERSION:2.0
PRODID:-//wetnoserescue.org//NONSGML kigkonsult.se iCalcreator 2.30.10//
CALSCALE:GREGORIAN
METHOD:PUBLISH
UID:0c4673d0-deae-44cb-a6c3-c45c372822a3
X-WR-CALDESC:Enjoy a relaxing yoga session surrounded by puppies\, and feel
  your stresses melt away. After the yoga session enjoy a free pint on Croo
 ked Eye Brewery! \n\nOur puppy yoga will be lead by Shannon who is an awes
 ome instructor from Open Center Yoga located in Bristol Borough! Class is 
 appropriate for beginners to advanced practitioners. Please bring your own
  yoga mat and blocks\, as these will not be provided on site. Please prepa
 re for puppies to act like puppies...they bark and go potty like cute pupp
 ies do! \n\nPRE-REGISTRATION IS REQUIRED. All sales are final and non-refu
 ndable. Yoga will be done inside the brewery\, we are only selling enough 
 spots to fit everyone inside the brewery. You may transfer your registrati
 on to an alternative participant. All participants must sign an exercise w
 aiver at the event.\n\nParking: Crooked Eye Brewery has it's own parking l
 ot. We will most likely have a volunteer (depending on availability) direc
 ting people where to park!\n\nEquipment/Yoga Mats: Bring your own yoga mat
 \, towels\, water\, blocks.\n\nWaivers: Please come a few minutes early. A
 ll participants must sign an exercise waiver at the event.
X-WR-RELCALID:4a1835fe87908312cfa72e0ecd0ee3ea
X-WR-TIMEZONE:America/New_York
BEGIN:VTIMEZONE
TZID:America/New_York
BEGIN:STANDARD
TZNAME:EST
DTSTART:20181104T020000
TZOFFSETFROM:-0400
TZOFFSETTO:-0500
RDATE:20191103T020000
RDATE:20201101T020000
END:STANDARD
BEGIN:DAYLIGHT
TZNAME:EDT
DTSTART:20190310T020000
TZOFFSETFROM:-0500
TZOFFSETTO:-0400
RDATE:20200308T020000
END:DAYLIGHT
END:VTIMEZONE
BEGIN:VEVENT
UID:ea36f707-03c2-45ae-97ea-185476bc4063
DTSTAMP:20260423T210923Z
DESCRIPTION:Enjoy a relaxing yoga session surrounded by puppies\, and feel 
 your stresses melt away. After the yoga session enjoy a free pint on Crook
 ed Eye Brewery! \n\nOur puppy yoga will be lead by Shannon who is an aweso
 me instructor from Open Center Yoga located in Bristol Borough! Class is a
 ppropriate for beginners to advanced practitioners. Please bring your own 
 yoga mat and blocks\, as these will not be provided on site. Please prepar
 e for puppies to act like puppies...they bark and go potty like cute puppi
 es do! \n\nPRE-REGISTRATION IS REQUIRED. All sales are final and non-refun
 dable. Yoga will be done inside the brewery\, we are only selling enough s
 pots to fit everyone inside the brewery. You may transfer your registratio
 n to an alternative participant. All participants must sign an exercise wa
 iver at the event.\n\nParking: Crooked Eye Brewery has it's own parking lo
 t. We will most likely have a volunteer (depending on availability) direct
 ing people where to park!\n\nEquipment/Yoga Mats: Bring your own yoga mat\
 , towels\, water\, blocks.\n\nWaivers: Please come a few minutes early. Al
 l participants must sign an exercise waiver at the event.
DTSTART;TZID=America/New_York:20190630T113000
DTEND;TZID=America/New_York:20190630T123000
LOCATION:Crooked Eye Brewery\, Hatboro\, PA
SUMMARY:Puppy Yoga @ Crooked Eye Brewery
END:VEVENT
END:VCALENDAR
