BEGIN:VCALENDAR
VERSION:2.0
PRODID:-//wetnoserescue.org//NONSGML kigkonsult.se iCalcreator 2.30.10//
CALSCALE:GREGORIAN
METHOD:PUBLISH
UID:3789ea1a-54e9-4458-8e13-2c018dc94796
X-WR-CALDESC:
X-WR-RELCALID:893a9e1a9451d605351267e105a20df7
X-WR-TIMEZONE:America/New_York
BEGIN:VTIMEZONE
TZID:America/New_York
BEGIN:STANDARD
TZNAME:EST
DTSTART:20211107T020000
TZOFFSETFROM:-0400
TZOFFSETTO:-0500
RDATE:20221106T020000
END:STANDARD
BEGIN:DAYLIGHT
TZNAME:EDT
DTSTART:20210314T020000
TZOFFSETFROM:-0500
TZOFFSETTO:-0400
RDATE:20220313T020000
RDATE:20230312T020000
END:DAYLIGHT
END:VTIMEZONE
BEGIN:VEVENT
UID:2a2db837-d6a0-480d-b1b7-9f3af30a99e0
DTSTAMP:20260421T220106Z
DESCRIPTION:
DTSTART;TZID=America/New_York:20211204T110000
DTEND;TZID=America/New_York:20211204T150000
LOCATION:14425 Bustleton Avenue\, Entrance on Philmont Avenue\, Philadelphi
 a\, PA 19116 US
SUMMARY:Walking In A Furry Wonderland
END:VEVENT
END:VCALENDAR
