BEGIN:VCALENDAR
VERSION:2.0
PRODID:-//wetnoserescue.org//NONSGML kigkonsult.se iCalcreator 2.30.10//
CALSCALE:GREGORIAN
METHOD:PUBLISH
UID:f2d388df-6d47-4051-876a-db0e7e6162a9
X-WR-CALDESC:Play games\, read to the dogs and look for a fur-ever friend! 
 A  Pawsome adoption event with plenty of water fun!
X-WR-RELCALID:139d5a12e645d65b0c771860067118b3
X-WR-TIMEZONE:America/New_York
BEGIN:VTIMEZONE
TZID:America/New_York
BEGIN:STANDARD
TZNAME:EST
DTSTART:20211107T020000
TZOFFSETFROM:-0400
TZOFFSETTO:-0500
RDATE:20221106T020000
RDATE:20231105T020000
END:STANDARD
BEGIN:DAYLIGHT
TZNAME:EDT
DTSTART:20220313T020000
TZOFFSETFROM:-0500
TZOFFSETTO:-0400
RDATE:20230312T020000
END:DAYLIGHT
END:VTIMEZONE
BEGIN:VEVENT
UID:247c3bec-318f-448d-b335-6a896b60bc00
DTSTAMP:20260421T110958Z
DESCRIPTION:Play games\, read to the dogs and look for a fur-ever friend! A
   Pawsome adoption event with plenty of water fun!
DTSTART;TZID=America/New_York:20220723T150000
DTEND;TZID=America/New_York:20220723T190000
LOCATION:109 Pike Circle\, Unit D  Huntingdon Valley\, PA
SUMMARY:Moss Mill Brewery Dog Days of Summer
END:VEVENT
END:VCALENDAR
